Workbook

Sheet Figure 7
B6: Cluster | C6: C1 | E6: C2 | G6: C3 | I6: C4 | K6: C5
B7: Question | C7: % N | D7: % P | E7: % N | F7: % P | G7: % N | H7: % P | I7: % N | J7: % P | K7: % N | L7: % P
B8: WE.1 | C8: -0.92 | D8: 0.08 | E8: -0.62237762 | F8: 0.37762238 | G8: -0.94117647 | H8: 0.058823529 | I8: -0.91666667 | J8: 0.083333333 | K8: -0.55932203 | L8: 0.44067797
B9: WE.2 | C9: -0.44 | D9: 0.56 | E9: -0.048951049 | F9: 0.95104895 | G9: -0.48235294 | H9: 0.51764706 | I9: -0.89583333 | J9: 0.10416667 | K9: -0.033898305 | L9: 0.96610169
B10: WE.3 | C10: -0.56 | D10: 0.44 | E10: -0.31468531 | F10: 0.68531469 | G10: -0.81176471 | H10: 0.18823529 | I10: -0.9375 | J10: 0.0625 | K10: -0.033898305 | L10: 0.96610169
B11: WE.4 | C11: -0.54666667 | D11: 0.45333333 | E11: -0.28671329 | F11: 0.71328671 | G11: -0.77647059 | H11: 0.22352941 | I11: -0.95833333 | J11: 0.041666667 | K11: -0.084745763 | L11: 0.91525424
B12: WE.5 | C12: -0.52 | D12: 0.48 | E12: -0.18881119 | F12: 0.81118881 | G12: -0.61176471 | H12: 0.38823529 | I12: -0.6875 | J12: 0.3125 | K12: -0.18644068 | L12: 0.81355932
B13: WE.6 | C13: -0.68 | D13: 0.32 | E13: -0.37062937 | F13: 0.62937063 | G13: -0.72941176 | H13: 0.27058824 | I13: -0.95833333 | J13: 0.041666667 | K13: -0.10169492 | L13: 0.89830508
B14: WE.7 | C14: -0.48 | D14: 0.52 | E14: -0.18881119 | F14: 0.81118881 | G14: -0.57647059 | H14: 0.42352941 | I14: -0.89583333 | J14: 0.10416667 | K14: -0.050847458 | L14: 0.94915254
B15: WE.8 | C15: -0.57333333 | D15: 0.42666667 | E15: -0.23076923 | F15: 0.76923077 | G15: -0.62352941 | H15: 0.37647059 | I15: -0.97916667 | J15: 0.020833333 | K15: -0.050847458 | L15: 0.94915254
B16: WE.9 | C16: -0.45333333 | D16: 0.54666667 | E16: -0.11888112 | F16: 0.88111888 | G16: -0.30588235 | H16: 0.69411765 | I16: -0.8125 | J16: 0.1875 | K16: 0 | L16: 1
B17: WE.10 | C17: -0.34666667 | D17: 0.65333333 | E17: -0.18881119 | F17: 0.81118881 | G17: -0.37647059 | H17: 0.62352941 | I17: -0.8125 | J17: 0.1875 | K17: -0.11864407 | L17: 0.88135593
B18: WE.11 | C18: -0.64 | D18: 0.36 | E18: -0.3006993 | F18: 0.6993007 | G18: -0.63529412 | H18: 0.36470588 | I18: -0.91666667 | J18: 0.083333333 | K18: -0.13559322 | L18: 0.86440678
B19: WE.12 | C19: -0.28 | D19: 0.72 | E19: -0.13986014 | F19: 0.86013986 | G19: -0.30588235 | H19: 0.69411765 | I19: -0.6875 | J19: 0.3125 | K19: -0.033898305 | L19: 0.96610169
... B22: WE.15 | C22: -0.49333333 | D22: 0.50666667 | E22: -0.29370629 | F22: 0.70629371 | G22: -0.44705882 | H22: 0.55294118 | I22: -0.91666667 | J22: 0.083333333 | K22: -0.016949153 | L22: 0.98305085

Sheet Figure 8
B6: Cluster | C6: C1 | E6: C2 | G6: C3 | I6: C4 | K6: C5
B7: Question | C7: % N | D7: % P | E7: % N | F7: % P | G7: % N | H7: % P | I7: % N | J7: % P | K7: % N | L7: % P
B8: WS.1 | C8: -0.52 | D8: 0.48 | E8: -0.14685315 | F8: 0.85314685 | G8: -0.15294118 | H8: 0.84705882 | I8: -0.52083333 | J8: 0.47916667 | K8: -0.06779661 | L8: 0.93220339
B9: WS.2 | C9: -0.53333333 | D9: 0.46666667 | E9: -0.1958042 | F9: 0.8041958 | G9: -0.2 | H9: 0.8 | I9: -0.47916667 | J9: 0.52083333 | K9: -0.18644068 | L9: 0.81355932
B10: WS.3 | C10: -0.24 | D10: 0.76 | E10: -0.020979021 | F10: 0.97902098 | G10: -0.023529412 | H10: 0.97647059 | I10: -0.29166667 | J10: 0.70833333 | K10: 0 | L10: 1
B11: WS.4 | C11: -0.74666667 | D11: 0.25333333 | E11: -0.47552448 | F11: 0.52447552 | G11: -0.23529412 | H11: 0.76470588 | I11: -0.875 | J11: 0.125 | K11: -0.084745763 | L11: 0.91525424
B12: WS.5 | C12: -0.12 | D12: 0.88 | E12: -0.013986014 | F12: 0.98601399 | G12: 0 | H12: 1 | I12: -0.20833333 | J12: 0.79166667 | K12: 0 | L12: 1
B13: WS.6 | C13: -0.30666667 | D13: 0.69333333 | E13: -0.062937063 | F13: 0.93706294 | G13: -0.058823529 | H13: 0.94117647 | I13: -0.4375 | J13: 0.5625 | K13: 0 | L13: 1
B14: WS.7 | C14: -0.46666667 | D14: 0.53333333 | E14: -0.23776224 | F14: 0.76223776 | G14: -0.12941176 | H14: 0.87058824 | I14: -0.6875 | J14: 0.3125 | K14: 0 | L14: 1
B15: WS.8 | C15: -0.21333333 | D15: 0.78666667 | E15: -0.027972028 | F15: 0.97202797 | G15: 0 | H15: 1 | I15: -0.10416667 | J15: 0.89583333 | K15: 0 | L15: 1
B16: WS.9 | C16: -0.41333333 | D16: 0.58666667 | E16: -0.076923077 | F16: 0.92307692 | G16: -0.094117647 | H16: 0.90588235 | I16: -0.4375 | J16: 0.5625 | K16: 0 | L16: 1
B17: WS.10 | C17: -0.13333333 | D17: 0.86666667 | E17: -0.006993007 | F17: 0.99300699 | G17: -0.023529412 | H17: 0.97647059 | I17: -0.20833333 | J17: 0.79166667 | K17: 0 | L17: 1
B18: WS.11 | C18: -0.28 | D18: 0.72 | E18: -0.020979021 | F18: 0.97902098 | G18: 0 | H18: 1 | I18: -0.29166667 | J18: 0.70833333 | K18: 0 | L18: 1
B19: WS.12 | C19: -0.74666667 | D19: 0.25333333 | E19: -0.37762238 | F19: 0.62237762 | G19: -0.23529412 | H19: 0.76470588 | I19: -0.89583333 | J19: 0.10416667 | K19: -0.10169492 | L19: 0.89830508
... B21: WS.14 | C21: -0.8 | D21: 0.2 | E21: -0.39160839 | F21: 0.60839161 | G21: -0.25882353 | H21: 0.74117647 | I21: -0.79166667 | J21: 0.20833333 | K21: -0.033898305 | L21: 0.96610169

Sheet Figure 9
D11: 1 | E11: 2 | F11: 3 | G11: 4 | H11: 5 | I11: 6
C12: WE | D12: 0.16926829 | E12: 0.13121951 | F12: 0.14292683 | G12: 0.22552846 | H12: 0.16861789 | I12: 0.16243902
C13: WS | D13: 0.069085228 | E13: 0.068217323 | F13: 0.10571081 | G13: 0.18104496 | H13: 0.25950356 | I13: 0.31643812

Sheet Figure 10
A2: Figure 10
C3: Use of advanced IT resources
C4: Answer | D4: C5 | E4: % | F4: C4 | G4: %
C5: 1 definitely not | D5: 7 | E5: =D5/$D$11 -> 0.11864407 | F5: 8 | G5: =F5/$F$11 -> 0.16666667
C6: 2 no | D6: 3 | E6: =D6/$D$11 -> 0.050847458 | F6: 7 | G6: =F6/$F$11 -> 0.14583333
C7: 3 rather not | D7: 3 | E7: =D7/$D$11 -> 0.050847458 | F7: 16 | G7: =F7/$F$11 -> 0.33333333
C8: 4 rather yes | D8: 16 | E8: =D8/$D$11 -> 0.27118644 | F8: 12 | G8: =F8/$F$11 -> 0.25
C9: 5 yes | D9: 12 | E9: =D9/$D$11 -> 0.20338983 | F9: 3 | G9: =F9/$F$11 -> 0.0625
C10: 6 definitely yes | D10: 18 | E10: =D10/$D$11 -> 0.30508475 | F10: 2 | G10: =F10/$F$11 -> 0.041666667
D11: =SUM(D5:D10) -> 59 | E11: =SUM(E8:E10) -> 0.77966102 | F11: =SUM(F5:F10) -> 48 | G11: =SUM(G8:G10) -> 0.35416667

Sheet Figure 11
A1: Figure 11
C2: Improving collaboration between employees
C3: Answer | D3: C5 | E3: % | F3: C4 | G3: %
C4: 1 definitely not | D4: 0 | E4: =D4/'Figure 10'!$D$11 -> 0 | F4: 6 | G4: =F4/'Figure 10'!$F$11 -> 0.125
C5: 2 no | D5: 0 | E5: =D5/'Figure 10'!$D$11 -> 0 | F5: 5 | G5: =F5/'Figure 10'!$F$11 -> 0.10416667
C6: 3 rather not | D6: 0 | E6: =D6/'Figure 10'!$D$11 -> 0 | F6: 9 | G6: =F6/'Figure 10'!$F$11 -> 0.1875
C7: 4 rather yes | D7: 9 | E7: =D7/'Figure 10'!$D$11 -> 0.15254237 | F7: 14 | G7: =F7/'Figure 10'!$F$11 -> 0.29166667
C8: 5 yes | D8: 24 | E8: =D8/'Figure 10'!$D$11 -> 0.40677966 | F8: 9 | G8: =F8/'Figure 10'!$F$11 -> 0.1875
C9: 6 definitely yes | D9: 26 | E9: =D9/'Figure 10'!$D$11 -> 0.44067797 | F9: 5 | G9: =F9/'Figure 10'!$F$11 -> 0.10416667
D10: =SUM(D4:D9) -> 59 | F10: =SUM(F4:F9) -> 48

Sheet Figure 12
A1: Figure 12
B3: Unification and simplification of organizational procedures
B4: Answer | C4: C5 | D4: % | E4: C4 | F4: %
B5: 1 definitely not | C5: 2 | D5: =C5/'Figure 10'!$D$11 -> 0.033898305 | E5: 9 | F5: =E5/'Figure 10'!$F$11 -> 0.1875
B6: 2 no | C6: 0 | D6: =C6/'Figure 10'!$D$11 -> 0 | E6: 4 | F6: =E6/'Figure 10'!$F$11 -> 0.083333333
B7: 3 rather not | C7: 9 | D7: =C7/'Figure 10'!$D$11 -> 0.15254237 | E7: 9 | F7: =E7/'Figure 10'!$F$11 -> 0.1875
B8: 4 rather yes | C8: 3 | D8: =C8/'Figure 10'!$D$11 -> 0.050847458 | E8: 8 | F8: =E8/'Figure 10'!$F$11 -> 0.16666667
B9: 5 yes | C9: 16 | D9: =C9/'Figure 10'!$D$11 -> 0.27118644 | E9: 8 | F9: =E9/'Figure 10'!$F$11 -> 0.16666667
B10: 6 definitely yes | C10: 29 | D10: =C10/'Figure 10'!$D$11 -> 0.49152542 | E10: 10 | F10: =E10/'Figure 10'!$F$11 -> 0.20833333
C11: =SUM(C5:C10) -> 59 | E11: =SUM(E5:E10) -> 48

Sheet Figure 13
A1: Figure 13
B3: The ability to start innovations faster
B4: Answer | C4: C5 | D4: % | E4: C4 | F4: %
B5: 1 definitely not | C5: 0 | D5: =C5/'Figure 10'!$D$11 -> 0 | E5: 11 | F5: =E5/'Figure 10'!$F$11 -> 0.22916667
B6: 2 no | C6: 0 | D6: =C6/'Figure 10'!$D$11 -> 0 | E6: 10 | F6: =E6/'Figure 10'!$F$11 -> 0.20833333
B7: 3 rather not | C7: 3 | D7: =C7/'Figure 10'!$D$11 -> 0.050847458 | E7: 9 | F7: =E7/'Figure 10'!$F$11 -> 0.1875
B8: 4 rather yes | C8: 13 | D8: =C8/'Figure 10'!$D$11 -> 0.22033898 | E8: 9 | F8: =E8/'Figure 10'!$F$11 -> 0.1875
B9: 5 yes | C9: 19 | D9: =C9/'Figure 10'!$D$11 -> 0.3220339 | E9: 6 | F9: =E9/'Figure 10'!$F$11 -> 0.125
B10: 6 definitely yes | C10: 24 | D10: =C10/'Figure 10'!$D$11 -> 0.40677966 | E10: 3 | F10: =E10/'Figure 10'!$F$11 -> 0.0625
C11: =SUM(C5:C10) -> 59 | E11: =SUM(E5:E10) -> 48

Sheet Figure 14
A1: Figure 14
C2: Harnessing the power of information
C3: Answer | D3: C5 | E3: % | F3: C4 | G3: %
C4: 1 definitely not | D4: 0 | E4: =D4/'Figure 10'!$D$11 -> 0 | F4: 3 | G4: =F4/'Figure 10'!$F$11 -> 0.0625
C5: 2 no | D5: 2 | E5: =D5/'Figure 10'!$D$11 -> 0.033898305 | F5: 4 | G5: =F5/'Figure 10'!$F$11 -> 0.083333333
C6: 3 rather not | D6: 3 | E6: =D6/'Figure 10'!$D$11 -> 0.050847458 | F6: 5 | G6: =F6/'Figure 10'!$F$11 -> 0.10416667
C7: 4 rather yes | D7: 6 | E7: =D7/'Figure 10'!$D$11 -> 0.10169492 | F7: 9 | G7: =F7/'Figure 10'!$F$11 -> 0.1875
C8: 5 yes | D8: 20 | E8: =D8/'Figure 10'!$D$11 -> 0.33898305 | F8: 17 | G8: =F8/'Figure 10'!$F$11 -> 0.35416667
C9: 6 definitely yes | D9: 28 | E9: =D9/'Figure 10'!$D$11 -> 0.47457627 | F9: 10 | G9: =F9/'Figure 10'!$F$11 -> 0.20833333
D10: =SUM(D4:D9) -> 59 | F10: =SUM(F4:F9) -> 48

Sheet Figure 15
A2: Figure 15
C5: 59 | F5: 48
C6: C5 | F6: C4
C7: We have | D7: We plan to implement | E7: We do not plan to implement | F7: We have | G7: We plan to implement | H7: We do not plan to implement
B8: 1. The use of energy-saving light bulbs | C8: =C42/$C$5 -> 0.88135593 | D8: =D42/$C$5 -> 0.084745763 | E8: =E42/$C$5 -> 0.033898305 | F8: =F42/$F$5 -> 0.5 | G8: =G42/$F$5 -> 0.20833333 | H8: =H42/$F$5 -> 0.29166667
B9: 2. The use of energy saving mode in office equipment | C9: =C43/$C$5 -> 0.81355932 | D9: =D43/$C$5 -> 0.084745763 | E9: =E43/$C$5 -> 0.10169492 | F9: =F43/$F$5 -> 0.39583333 | G9: =G43/$F$5 -> 0.25 | H9: =H43/$F$5 -> 0.35416667
B10: 3. Connecting devices to one strip, turned off at the end of the day | C10: =C44/$C$5 -> 0.6779661 | D10: =D44/$C$5 -> 0.11864407 | E10: =E44/$C$5 -> 0.20338983 | F10: =F44/$F$5 -> 0.4375 | G10: =G44/$F$5 -> 0.22916667 | H10: =H44/$F$5 -> 0.33333333
B11: 4. Implementation of the "zero paper" principle | C11: =C45/$C$5 -> 0.18644068 | D11: =D45/$C$5 -> 0.37288136 | E11: =E45/$C$5 -> 0.44067797 | F11: =F45/$F$5 -> 0.10416667 | G11: =G45/$F$5 -> 0.41666667 | H11: =H45/$F$5 -> 0.47916667
B12: 5. Storage of documents in electronic form instead of paper | C12: =C46/$C$5 -> 0.38983051 | D12: =D46/$C$5 -> 0.28813559 | E12: =E46/$C$5 -> 0.3220339 | F12: =F46/$F$5 -> 0.45833333 | G12: =G46/$F$5 -> 0.33333333 | H12: =H46/$F$5 -> 0.20833333
B13: 6. Printing only when necessary | C13: =C47/$C$5 -> 0.76271186 | D13: =D47/$C$5 -> 0.15254237 | E13: =E47/$C$5 -> 0.084745763 | F13: =F47/$F$5 -> 0.64583333 | G13: =G47/$F$5 -> 0.25 | H13: =H47/$F$5 -> 0.10416667
B14: 7. E-mail correspondence instead of traditional | C14: =C48/$C$5 -> 0.83050847 | D14: =D48/$C$5 -> 0.10169492 | E14: =E48/$C$5 -> 0.06779661 | F14: =F48/$F$5 -> 0.8125 | G14: =G48/$F$5 -> 0.125 | H14: =H48/$F$5 -> 0.0625
B15: 8. Print optimization (draft quality print) | C15: =C49/$C$5 -> 0.71186441 | D15: =D49/$C$5 -> 0.16949153 | E15: =E49/$C$5 -> 0.11864407 | F15: =F49/$F$5 -> 0.58333333 | G15: =G49/$F$5 -> 0.20833333 | H15: =H49/$F$5 -> 0.20833333
B16: 9. Promoting bicycles or car sharing as commuting | C16: =C50/$C$5 -> 0.30508475 | D16: =D50/$C$5 -> 0.18644068 | E16: =E50/$C$5 -> 0.50847458 | F16: =F50/$F$5 -> 0.10416667 | G16: =G50/$F$5 -> 0.125 | H16: =H50/$F$5 -> 0.77083333
B17: 10. Possibility of remote work | C17: =C51/$C$5 -> 0.44067797 | D17: =D51/$C$5 -> 0.20338983 | E17: =E51/$C$5 -> 0.3559322 | F17: =F51/$F$5 -> 0.5 | G17: =G51/$F$5 -> 0.14583333 | H17: =H51/$F$5 -> 0.35416667
B18: 11. Use of accessories made of recovered raw materials | C18: =C52/$C$5 -> 0.66101695 | D18: =D52/$C$5 -> 0.18644068 | E18: =E52/$C$5 -> 0.15254237 | F18: =F52/$F$5 -> 0.5 | G18: =G52/$F$5 -> 0.1875 | H18: =H52/$F$5 -> 0.3125
B19: 12. Purchase of office supplies in bulk | C19: =C53/$C$5 -> 0.62711864 | D19: =D53/$C$5 -> 0.10169492 | E19: =E53/$C$5 -> 0.27118644 | F19: =F53/$F$5 -> 0.5 | G19: =G53/$F$5 -> 0.20833333 | H19: =H53/$F$5 -> 0.29166667
... B22: 15. Elimination of plastic vessels in favor of glass, reusable | C22: =C56/$C$5 -> 0.84745763 | D22: =D56/$C$5 -> 0.06779661 | E22: =E56/$C$5 -> 0.084745763 | F22: =F56/$F$5 -> 0.58333333 | G22: =G56/$F$5 -> 0.20833333 | H22: =H56/$F$5 -> 0.20833333
C40: C5 | F40: C4
C41: Posiadamy | D41: Planujemy wdrożyć | E41: Nie planujemy wdrożyć | F41: Posiadamy | G41: Planujemy wdrożyć | H41: Nie planujemy wdrożyć
B42: 1. Stosowanie energooszczędnych żarówek | C42: 52 | D42: 5 | E42: 2 | F42: 24 | G42: 10 | H42: 14
B43: 2. Stosowanie trybu oszczędzania energii w urządzeniach biurowych | C43: 48 | D43: 5 | E43: 6 | F43: 19 | G43: 12 | H43: 17
B44: 3. Podpięcie urządzeń pod jedną listwę, wyłączaną na zakończenie dnia | C44: 40 | D44: 7 | E44: 12 | F44: 21 | G44: 11 | H44: 16
B45: 4. Wdrożenie zasady „zero papieru” | C45: 11 | D45: 22 | E45: 26 | F45: 5 | G45: 20 | H45: 23
B46: 5. Przechowywanie dokumentów w formie elektronicznej zamiast papierowej | C46: 23 | D46: 17 | E46: 19 | F46: 22 | G46: 16 | H46: 10
B47: 6. Drukowanie tylko wtedy gdy jest to niezbędne | C47: 45 | D47: 9 | E47: 5 | F47: 31 | G47: 12 | H47: 5
B48: 7. Korespondencja mailowa zamiast tradycyjnej | C48: 49 | D48: 6 | E48: 4 | F48: 39 | G48: 6 | H48: 3
B49: 8. Optymalizacja drukowania (wydruk w jakości roboczej) | C49: 42 | D49: 10 | E49: 7 | F49: 28 | G49: 10 | H49: 10
B50: 9. Promowanie rowerów lub „car sharing” jako dojazdy do pracy | C50: 18 | D50: 11 | E50: 30 | F50: 5 | G50: 6 | H50: 37
B51: 10. Możliwość wykonywania pracy zdalnej | C51: 26 | D51: 12 | E51: 21 | F51: 24 | G51: 7 | H51: 17
B52: 11. Wykorzystywanie akcesoriów i materiałów wykonanych z odzyskanych surowców (ręczniki kuchenne, papier toaletowy) | C52: 39 | D52: 11 | E52: 9 | F52: 24 | G52: 9 | H52: 15
B53: 12. Zakup materiałów biurowych w ilościach hurtowych | C53: 37 | D53: 6 | E53: 16 | F53: 24 | G53: 10 | H53: 14
... B56: 15. Eliminacja naczyń plastikowych na rzecz szklanych, wielokrotnego użytku | C56: 50 | D56: 4 | E56: 5 | F56: 28 | G56: 10 | H56: 10

Sheet Figure 16
A1: Figure 16
B3: Number of implemented innovations
B4: Answer | C4: C5 | D4: % | E4: C4 | F4: %
B5: Significant increase | C5: 13 | D5: =C5/'Figure 10'!$D$11 -> 0.22033898 | E5: 4 | F5: =E5/'Figure 10'!$F$11 -> 0.083333333
B6: Slight increase | C6: 27 | D6: =C6/'Figure 10'!$D$11 -> 0.45762712 | E6: 11 | F6: =E6/'Figure 10'!$F$11 -> 0.22916667
B7: No change | C7: 17 | D7: =C7/'Figure 10'!$D$11 -> 0.28813559 | E7: 31 | F7: =E7/'Figure 10'!$F$11 -> 0.64583333
B8: Slight decrease | C8: 2 | D8: =C8/'Figure 10'!$D$11 -> 0.033898305 | E8: 0 | F8: =E8/'Figure 10'!$F$11 -> 0
B9: Significant decline | C9: 0 | D9: =C9/'Figure 10'!$D$11 -> 0 | E9: 2 | F9: =E9/'Figure 10'!$F$11 -> 0.041666667
C11: =SUM(C5:C10) -> 59 | E11: =SUM(E5:E10) -> 48

Sheet Figure 17 
A1: Figure 17
C3: Enterprise profit
C4: Answer | D4: C5 | E4: % | F4: C4 | G4: %
C5: Significant increase | D5: 20 | E5: =D5/$D$11 -> 0.33898305 | F5: 4 | G5: =F5/$F$11 -> 0.083333333
C6: Slight increase | D6: 23 | E6: =D6/$D$11 -> 0.38983051 | F6: 11 | G6: =F6/$F$11 -> 0.22916667
C7: No change | D7: 8 | E7: =D7/$D$11 -> 0.13559322 | F7: 31 | G7: =F7/$F$11 -> 0.64583333
C8: Slight decrease | D8: 8 | E8: =D8/$D$11 -> 0.13559322 | F8: 0 | G8: =F8/$F$11 -> 0
C9: Significant decline | D9: 0 | E9: =D9/$D$11 -> 0 | F9: 2 | G9: =F9/$F$11 -> 0.041666667
D11: =SUM(D5:D10) -> 59 | F11: =SUM(F5:F10) -> 48

Sheet Figure 18
A6: Figure 18
C7: Economic situation in Poland (compared to the previous year)
C8: Answer | D8: C5 | E8: % | F8: C4 | G8: %
C9: Much worse | D9: 15 | E9: 0.25423729 | F9: 11 | G9: 0.22916667
C10: A bit worse | D10: 14 | E10: 0.23728814 | F10: 12 | G10: 0.25
C11: No change | D11: 9 | E11: 0.15254237 | F11: 5 | G11: 0.10416667
C12: A bit better | D12: 11 | E12: 0.18644068 | F12: 15 | G12: 0.3125
C13: Much better | D13: 10 | E13: 0.16949153 | F13: 5 | G13: 0.10416667
D15: =SUM(D9:D14) -> 59 | F15: =SUM(F9:F14) -> 48

Sheet Figure 19
A3: Figure 19
C6: Expected change in the economic situation in the next 3 years
C7: Answer | D7: C5 | E7: % | F7: C4 | G7: %
C8: Much worse | D8: 17 | E8: 0.28813559 | F8: 15 | G8: 0.22916667
C9: A bit worse | D9: 10 | E9: 0.16949153 | F9: 13 | G9: 0.25
C10: No change | D10: 14 | E10: 0.23728814 | F10: 9 | G10: 0.10416667
C11: A bit better | D11: 12 | E11: 0.20338983 | F11: 9 | G11: 0.3125
C12: Much better | D12: 6 | E12: 0.10169492 | F12: 2 | G12: 0.10416667
D14: =SUM(D8:D13) -> 59 | F14: =SUM(F8:F13) -> 48

Sheet Figure 20
B4: What will be the impact of sustainable entrepreneurship on the enterprises in the next five years | C4: C5 | D4: % | E4: C4 | F4: %
A5: 1 | B5: More and more companies will implement their activities in the spirit of Sustainable Entrepreneurship | C5: 25 | D5: =C5/$C$14 -> 0.42372881 | E5: 16 | F5: =E5/$E$14 -> 0.33333333
A6: 2 | B6: Sustainable entrepreneurship will become the standard by which economic processes will run | C6: 16 | D6: =C6/$C$14 -> 0.27118644 | E6: 4 | F6: =E6/$E$14 -> 0.083333333
A7: 3 | B7: Concepts with the adjective "balanced" will be mixed | C7: 23 | D7: =C7/$C$14 -> 0.38983051 | E7: 13 | F7: =E7/$E$14 -> 0.27083333
A8: 4 | B8: Failure to take into account the concept of sustainable entrepreneurship will contribute to the company's failure on the market | C8: 7 | D8: =C8/$C$14 -> 0.11864407 | E8: 3 | F8: =E8/$E$14 -> 0.0625
A9: 5 | B9: Sustainable entrepreneurship will also affect the attitudes of recipients of services / products offered by the enterprise | C9: 16 | D9: =C9/$C$14 -> 0.27118644 | E9: 10 | F9: =E9/$E$14 -> 0.20833333
A10: 6 | B10: Sustainable entrepreneurship will contribute to increasing the level of innovation in enterprises | C10: 13 | D10: =C10/$C$14 -> 0.22033898 | E10: 9 | F10: =E10/$E$14 -> 0.1875
A11: 7 | B11: Nothing will change | C11: 10 | D11: =C11/$C$14 -> 0.16949153 | E11: 17 | F11: =E11/$E$14 -> 0.35416667
A12: 8 | B12: Hard to say | C12: 7 | D12: =C12/$C$14 -> 0.11864407 | E12: 8 | F12: =E12/$E$14 -> 0.16666667
C14: 59 | E14: 48
